BEGIN:VCALENDAR
VERSION:2.0
PRODID:-//Kultur- und Museumsverein Eibiswald - ECPv6.15.18//NONSGML v1.0//EN
CALSCALE:GREGORIAN
METHOD:PUBLISH
X-WR-CALNAME:Kultur- und Museumsverein Eibiswald
X-ORIGINAL-URL:https://staging.eibiswald.net
X-WR-CALDESC:Veranstaltungen für Kultur- und Museumsverein Eibiswald
REFRESH-INTERVAL;VALUE=DURATION:PT1H
X-Robots-Tag:noindex
X-PUBLISHED-TTL:PT1H
BEGIN:VTIMEZONE
TZID:Europe/Vienna
BEGIN:DAYLIGHT
TZOFFSETFROM:+0100
TZOFFSETTO:+0200
TZNAME:CEST
DTSTART:20240331T010000
END:DAYLIGHT
BEGIN:STANDARD
TZOFFSETFROM:+0200
TZOFFSETTO:+0100
TZNAME:CET
DTSTART:20241027T010000
END:STANDARD
BEGIN:DAYLIGHT
TZOFFSETFROM:+0100
TZOFFSETTO:+0200
TZNAME:CEST
DTSTART:20250330T010000
END:DAYLIGHT
BEGIN:STANDARD
TZOFFSETFROM:+0200
TZOFFSETTO:+0100
TZNAME:CET
DTSTART:20251026T010000
END:STANDARD
BEGIN:DAYLIGHT
TZOFFSETFROM:+0100
TZOFFSETTO:+0200
TZNAME:CEST
DTSTART:20260329T010000
END:DAYLIGHT
BEGIN:STANDARD
TZOFFSETFROM:+0200
TZOFFSETTO:+0100
TZNAME:CET
DTSTART:20261025T010000
END:STANDARD
END:VTIMEZONE
BEGIN:VEVENT
DTSTART;TZID=Europe/Vienna:20250919T190000
DTEND;TZID=Europe/Vienna:20250919T230000
DTSTAMP:20260424T004539
CREATED:20260105T181712Z
LAST-MODIFIED:20260105T185650Z
UID:10000139-1758308400-1758322800@staging.eibiswald.net
SUMMARY:Anna Koegeler und Hans Szyszkowitz "Malerei als Weg" | Vernissage
DESCRIPTION:
URL:https://staging.eibiswald.net/event/anna-koegeler-und-hans-szyszkowitz-malerei-als-weg-vernissage/
LOCATION:Steiermark
CATEGORIES:Ausstellung GiL,Galerie im Lerchhaus
ATTACH;FMTTYPE=image/avif:https://staging.eibiswald.net/wp-content/uploads/2026/01/Cover-Mond-und-Sonne-v1-Kopie-e1767637001570.avif
END:VEVENT
END:VCALENDAR