BEGIN:VCALENDAR
VERSION:2.0
PRODID:-//Kultur- und Museumsverein Eibiswald - ECPv6.15.18//NONSGML v1.0//EN
CALSCALE:GREGORIAN
METHOD:PUBLISH
X-ORIGINAL-URL:https://staging.eibiswald.net
X-WR-CALDESC:Veranstaltungen für Kultur- und Museumsverein Eibiswald
REFRESH-INTERVAL;VALUE=DURATION:PT1H
X-Robots-Tag:noindex
X-PUBLISHED-TTL:PT1H
BEGIN:VTIMEZONE
TZID:Europe/Vienna
BEGIN:DAYLIGHT
TZOFFSETFROM:+0100
TZOFFSETTO:+0200
TZNAME:CEST
DTSTART:20250330T010000
END:DAYLIGHT
BEGIN:STANDARD
TZOFFSETFROM:+0200
TZOFFSETTO:+0100
TZNAME:CET
DTSTART:20251026T010000
END:STANDARD
BEGIN:DAYLIGHT
TZOFFSETFROM:+0100
TZOFFSETTO:+0200
TZNAME:CEST
DTSTART:20260329T010000
END:DAYLIGHT
BEGIN:STANDARD
TZOFFSETFROM:+0200
TZOFFSETTO:+0100
TZNAME:CET
DTSTART:20261025T010000
END:STANDARD
BEGIN:DAYLIGHT
TZOFFSETFROM:+0100
TZOFFSETTO:+0200
TZNAME:CEST
DTSTART:20270328T010000
END:DAYLIGHT
BEGIN:STANDARD
TZOFFSETFROM:+0200
TZOFFSETTO:+0100
TZNAME:CET
DTSTART:20271031T010000
END:STANDARD
END:VTIMEZONE
BEGIN:VEVENT
DTSTART;TZID=Europe/Vienna:20260814T090000
DTEND;TZID=Europe/Vienna:20260814T110000
DTSTAMP:20260423T211008
CREATED:20260119T215454Z
LAST-MODIFIED:20260130T075427Z
UID:10000157-1786698000-1786705200@staging.eibiswald.net
SUMMARY:Kräuterbuschen Workshop
DESCRIPTION:Kräuterbuschen binden zu Mariä Himmelfahrt\nMit viel Liebe und Sorgfalt werden alljährlich rund um Maria Himmelfahrt die traditionellen Kräuterbuschen von unserem engagierten Museumsteam unter der Leitung von Eva Hojnik gebunden. Diese alte\, tief in unserer Region verwurzelte Tradition hat ihren Ursprung in vorchristlichen\, keltischen Bräuchen und wird bis heute lebendig erhalten. \nKräutern\, die um den großen Frauentag gesammelt werden\, spricht man die stärksten Heilkräfte zu. Die gesegneten Kräuterbuschen werden getrocknet zu Tees oder zum Räuchern verwendet\, aber auch im Herrgottswinkel aufgehängt\, um dem Haus Schutz und Segen zu bringen. \nJeder Buschen symbolisiert die Fülle der Schöpfung und die Wertschätzung für das\, was die Natur uns Jahr für Jahr schenkt.
URL:https://staging.eibiswald.net/event/universalmuseum-eibiswald/
LOCATION:Universalmuseum im Kloepferhaus\, Eibiswald 36\, Eibiswald\, Styria\, 8552\, Austria
CATEGORIES:Universalmuseum im Kloepferhaus
ATTACH;FMTTYPE=image/jpeg:https://staging.eibiswald.net/wp-content/uploads/2026/01/b2b86385-64c2-442f-b1f5-e75f83b32bdb-e1768928789143.jpg
ORGANIZER;CN="Kultur-und Museumsverein Eibiswald":MAILTO:info@kultur.eibiswald.net
GEO:46.687247382503;15.247198135426
X-APPLE-STRUCTURED-LOCATION;VALUE=URI;X-ADDRESS=Universalmuseum im Kloepferhaus Eibiswald 36 Eibiswald Styria 8552 Austria;X-APPLE-RADIUS=500;X-TITLE=Eibiswald 36:geo:15.247198135426,46.687247382503
END:VEVENT
END:VCALENDAR