BEGIN:VCALENDAR
VERSION:2.0
PRODID:-//Kultur- und Museumsverein Eibiswald - ECPv6.15.18//NONSGML v1.0//EN
CALSCALE:GREGORIAN
METHOD:PUBLISH
X-ORIGINAL-URL:https://staging.eibiswald.net
X-WR-CALDESC:Veranstaltungen für Kultur- und Museumsverein Eibiswald
REFRESH-INTERVAL;VALUE=DURATION:PT1H
X-Robots-Tag:noindex
X-PUBLISHED-TTL:PT1H
BEGIN:VTIMEZONE
TZID:Europe/Vienna
BEGIN:DAYLIGHT
TZOFFSETFROM:+0100
TZOFFSETTO:+0200
TZNAME:CEST
DTSTART:20250330T010000
END:DAYLIGHT
BEGIN:STANDARD
TZOFFSETFROM:+0200
TZOFFSETTO:+0100
TZNAME:CET
DTSTART:20251026T010000
END:STANDARD
BEGIN:DAYLIGHT
TZOFFSETFROM:+0100
TZOFFSETTO:+0200
TZNAME:CEST
DTSTART:20260329T010000
END:DAYLIGHT
BEGIN:STANDARD
TZOFFSETFROM:+0200
TZOFFSETTO:+0100
TZNAME:CET
DTSTART:20261025T010000
END:STANDARD
BEGIN:DAYLIGHT
TZOFFSETFROM:+0100
TZOFFSETTO:+0200
TZNAME:CEST
DTSTART:20270328T010000
END:DAYLIGHT
BEGIN:STANDARD
TZOFFSETFROM:+0200
TZOFFSETTO:+0100
TZNAME:CET
DTSTART:20271031T010000
END:STANDARD
END:VTIMEZONE
BEGIN:VEVENT
DTSTART;TZID=Europe/Vienna:20260911T190000
DTEND;TZID=Europe/Vienna:20260911T230000
DTSTAMP:20260423T221728
CREATED:20260105T152356Z
LAST-MODIFIED:20260130T082154Z
UID:10000136-1789153200-1789167600@staging.eibiswald.net
SUMMARY:Wolfgang Kober "Stierkult - Kultstier"
DESCRIPTION:Im Zentrum der Arbeit des Bildhauers Wolfgang Kober steht die uralte Beziehung des Menschen zum Stier. Seit jeher Urbild von Kraft und Stärke\, von Imposantheit und Anmut\, hat der Stier Künstler Jahrtausende lang bewegt. Wolfgang Kober möchte sich dem Stier als Kultobjekt nähern. Dabei geht es ihm aber nicht um Abbildung der äußeren Realität. Der Künstler will den inneren Kern\, in gewisser Weise die Seele erforschen und nach außen bringen. Das\, was nicht gegenständlich ist\, sichtbar machen. Die Form von innen nach außen konkretisieren und festhalten.
URL:https://staging.eibiswald.net/event/wolfgang-kober-stierkult-kultstier/
LOCATION:Steiermark
CATEGORIES:Ausstellung GiL,Galerie im Lerchhaus
ATTACH;FMTTYPE=image/jpeg:https://staging.eibiswald.net/wp-content/uploads/2026/01/Skulptur-1-Wolfgang-Kober-scaled-e1767626782207.jpeg
END:VEVENT
END:VCALENDAR