BEGIN:VCALENDAR
VERSION:2.0
PRODID:-//Kultur- und Museumsverein Eibiswald - ECPv6.15.18//NONSGML v1.0//EN
CALSCALE:GREGORIAN
METHOD:PUBLISH
X-WR-CALNAME:Kultur- und Museumsverein Eibiswald
X-ORIGINAL-URL:https://staging.eibiswald.net
X-WR-CALDESC:Veranstaltungen für Kultur- und Museumsverein Eibiswald
REFRESH-INTERVAL;VALUE=DURATION:PT1H
X-Robots-Tag:noindex
X-PUBLISHED-TTL:PT1H
BEGIN:VTIMEZONE
TZID:Europe/Vienna
BEGIN:DAYLIGHT
TZOFFSETFROM:+0100
TZOFFSETTO:+0200
TZNAME:CEST
DTSTART:20240331T010000
END:DAYLIGHT
BEGIN:STANDARD
TZOFFSETFROM:+0200
TZOFFSETTO:+0100
TZNAME:CET
DTSTART:20241027T010000
END:STANDARD
BEGIN:DAYLIGHT
TZOFFSETFROM:+0100
TZOFFSETTO:+0200
TZNAME:CEST
DTSTART:20250330T010000
END:DAYLIGHT
BEGIN:STANDARD
TZOFFSETFROM:+0200
TZOFFSETTO:+0100
TZNAME:CET
DTSTART:20251026T010000
END:STANDARD
BEGIN:DAYLIGHT
TZOFFSETFROM:+0100
TZOFFSETTO:+0200
TZNAME:CEST
DTSTART:20260329T010000
END:DAYLIGHT
BEGIN:STANDARD
TZOFFSETFROM:+0200
TZOFFSETTO:+0100
TZNAME:CET
DTSTART:20261025T010000
END:STANDARD
BEGIN:DAYLIGHT
TZOFFSETFROM:+0100
TZOFFSETTO:+0200
TZNAME:CEST
DTSTART:20270328T010000
END:DAYLIGHT
BEGIN:STANDARD
TZOFFSETFROM:+0200
TZOFFSETTO:+0100
TZNAME:CET
DTSTART:20271031T010000
END:STANDARD
END:VTIMEZONE
BEGIN:VEVENT
DTSTART;TZID=Europe/Vienna:20260308T170000
DTEND;TZID=Europe/Vienna:20260308T190000
DTSTAMP:20260423T165709
CREATED:20260101T180406Z
LAST-MODIFIED:20260307T093644Z
UID:10000112-1772989200-1772996400@staging.eibiswald.net
SUMMARY:Soul Sisters - voice ARTist`s im Lerchhaus Eibiswald
DESCRIPTION:Die Formation Soul Sisters besticht durch ihr herausragendes Harmony-Singing\, bei dem die eleganten\, mehrstimmigen Gesänge des Quintettes von einer Akustikgitarre und einem Bass einzigartig begleitet werden. \nSowohl der Bandname als auch das vielfältige Programm spiegeln die musikalischen Vorlieben der einzelnen Musikerinnen\, die seit langem durch eine enge Freundschaft und produktive Zusammenarbeit verbunden sind\, wider. \nMit einer Mischung aus Eigenkompositionen und speziell arrangierten Covern von Künstlern wie Eurythmics\, Womack & Womack\, Seal\, Incognito\, Bee Gees\, Earth Wind & Fire\, Miley Cyrus und weiteren\, präsentieren Soul Sisters eine abwechslungsreiche Show\, die das Publikum begeistern wird. \nErleben Sie die Magie von Soul Sisters und lassen Sie sich von ihrem unverwechselbaren Sound verzaubern. \nVOCALS : Corry Gass\, Brigitte Pollam\, Martina Hofstadler\nGitarre: Michi Kaufmann\, Bass: Reinhard Scherübel \nFotocredits: Heli Slawitz
URL:https://staging.eibiswald.net/event/soul-sisters-voice-artists-im-lerchhaus-eibiswald/
LOCATION:Lerchhaus\, Eibiswald 82\, Eibiswald\, Steiermark\, 8552
CATEGORIES:Events,Konzert
ATTACH;FMTTYPE=image/jpeg:https://staging.eibiswald.net/wp-content/uploads/2026/01/Soul-Sisters_c-heli-slawitz-e1767290962944.jpg
ORGANIZER;CN="Kultur-und Museumsverein Eibiswald":MAILTO:info@kultur.eibiswald.net
END:VEVENT
BEGIN:VEVENT
DTSTART;TZID=Europe/Vienna:20260221T140000
DTEND;TZID=Europe/Vienna:20260221T180000
DTSTAMP:20260423T165709
CREATED:20260101T160640Z
LAST-MODIFIED:20260216T154856Z
UID:10000111-1771682400-1771696800@staging.eibiswald.net
SUMMARY:Spielenachmittag der Generationen
DESCRIPTION:Gemeinsam spielen\, lachen und neue Begegnungen erleben! Beim Spielenachmittag der Generationen treffen sich Kinder\, Jugendliche\, Erwachsene sowie Seniorinnen und Senioren\, um bei abwechslungsreichen Gesellschafts-\, Brett- und Kartenspielen eine schöne Zeit miteinander zu verbringen. \nÜber 100 Spiele stehen zur Auswahl – von beliebten Klassikern bis zu spannenden neuen Entdeckungen.\nUnsere erfahrenen Spielmanagerinnen und Spielmanager erklären die Spiele professionell und verständlich\, begleiten die Spielrunden und sorgen dafür\, dass alle – egal ob Anfänger oder Spieleprofi – sofort mitspielen können. \nIn lockerer Atmosphäre entstehen Gespräche\, Freundschaften und generationsübergreifende Erlebnisse. Der Spaß am gemeinsamen Spielen steht im Mittelpunkt.Unterstützt werden wir von den Spieleprofis von Ludovico ludovico.at \nDie Teilnahme ist kostenlos. \nAlle Generationen herzlich willkommen – wir freuen uns auf euch! \nWir bitten um eine Anmeldung um das Interesse einschätzen zu können\, für alle die sich spontan entscheiden gilt\, Einfach vorbeikommen\, mitspielen und genießen!
URL:https://staging.eibiswald.net/event/spielenachmittag-der-generationen/
LOCATION:Lerchhaus\, Eibiswald 82\, Eibiswald\, Steiermark\, 8552
CATEGORIES:Events,Gemeinsam
ATTACH;FMTTYPE=image/jpeg:https://staging.eibiswald.net/wp-content/uploads/2026/01/25J_0554-26J125313-1_Querformat_1-scaled.jpeg
ORGANIZER;CN="Kultur-und Museumsverein Eibiswald":MAILTO:info@kultur.eibiswald.net
END:VEVENT
BEGIN:VEVENT
DTSTART;TZID=Europe/Vienna:20251125T193000
DTEND;TZID=Europe/Vienna:20251125T210000
DTSTAMP:20260423T165709
CREATED:20251114T150620Z
LAST-MODIFIED:20260105T203520Z
UID:10000065-1764099000-1764104400@staging.eibiswald.net
SUMMARY:Impulsabend zu Orange The World
DESCRIPTION:Nach wie vor zählt Gewalt an Frauen zu einer der am weitesten verbreiteten Menschenrechtsverletzungen.\nDie UN-Kampagne Orange The World findet jährlich zwischen dem 25. November\, (Intern. Tag gegen Gewalt an Frauen) und dem 10. Dezember (Intern. Menschenrechtstag) statt.\nWeltweit erstrahlen in diesen 16 Tagen gegen Gewalt zahlreiche Gebäude in oranger Farbe\, um ein sichtbares Zeichen gegen jegliche Art von Gewalt an Frauen zu setzen und um sich mit Betroffenen solidarisch zu zeigen. Alle Aktionen in diesem Zeitraum tragen zur Enttabuisierung des Themas bei.\nAuch unser Verein setzt ein klares Zeichen\, beleuchtet Gebäude und veranstaltet in diesem Rahmen Impulsabende und Kunstaktionen\, die jedes Jahr regional und überregional beachtet werden.
URL:https://staging.eibiswald.net/event/impulsabend-zu-orange-the-world/
LOCATION:Lerchhaus\, Eibiswald 82\, Eibiswald\, Steiermark\, 8552
CATEGORIES:Events
ATTACH;FMTTYPE=image/png:https://staging.eibiswald.net/wp-content/uploads/2025/11/Bildschirmfoto-2025-11-14-um-15.55.28-1-e1763132606204.png
ORGANIZER;CN="Kultur-und Museumsverein Eibiswald":MAILTO:info@kultur.eibiswald.net
END:VEVENT
END:VCALENDAR