BEGIN:VCALENDAR
VERSION:2.0
PRODID:-//Kultur- und Museumsverein Eibiswald - ECPv6.15.18//NONSGML v1.0//EN
CALSCALE:GREGORIAN
METHOD:PUBLISH
X-ORIGINAL-URL:https://staging.eibiswald.net
X-WR-CALDESC:Veranstaltungen für Kultur- und Museumsverein Eibiswald
REFRESH-INTERVAL;VALUE=DURATION:PT1H
X-Robots-Tag:noindex
X-PUBLISHED-TTL:PT1H
BEGIN:VTIMEZONE
TZID:Europe/Vienna
BEGIN:DAYLIGHT
TZOFFSETFROM:+0100
TZOFFSETTO:+0200
TZNAME:CEST
DTSTART:20250330T010000
END:DAYLIGHT
BEGIN:STANDARD
TZOFFSETFROM:+0200
TZOFFSETTO:+0100
TZNAME:CET
DTSTART:20251026T010000
END:STANDARD
BEGIN:DAYLIGHT
TZOFFSETFROM:+0100
TZOFFSETTO:+0200
TZNAME:CEST
DTSTART:20260329T010000
END:DAYLIGHT
BEGIN:STANDARD
TZOFFSETFROM:+0200
TZOFFSETTO:+0100
TZNAME:CET
DTSTART:20261025T010000
END:STANDARD
BEGIN:DAYLIGHT
TZOFFSETFROM:+0100
TZOFFSETTO:+0200
TZNAME:CEST
DTSTART:20270328T010000
END:DAYLIGHT
BEGIN:STANDARD
TZOFFSETFROM:+0200
TZOFFSETTO:+0100
TZNAME:CET
DTSTART:20271031T010000
END:STANDARD
END:VTIMEZONE
BEGIN:VEVENT
DTSTART;TZID=Europe/Vienna:20260424T190000
DTEND;TZID=Europe/Vienna:20260424T220000
DTSTAMP:20260423T153824
CREATED:20260112T161435Z
LAST-MODIFIED:20260314T122925Z
UID:10000153-1777057200-1777068000@staging.eibiswald.net
SUMMARY:Jörg Martin Willnauer
DESCRIPTION:Carmina BANANA – Krumme Lieder\nErleben Sie einen außergewöhnlichen Abend mit Jörg‑Martin Willnauer! „Carmina BANANA – Krumme Lieder“ verbindet satirische Texte\, feinen Humor und musikalische Vielfalt zu einem Programm voller Charme und überraschender Wendungen. \nDie „krummen Lieder“ blicken augenzwinkernd auf das Alltägliche\, das Absurde und das wunderbar Menschliche. Ein Abend\, der Musikliebhaberinnen und Musikliebhaber sowie Freundinnen und Freunde gehobener Kabarettkunst gleichermaßen begeistert.
URL:https://staging.eibiswald.net/event/joerg-martin-willnauer/
LOCATION:Lerchhaus\, Eibiswald 82\, Eibiswald\, Steiermark\, 8552
CATEGORIES:Events,Theater
ATTACH;FMTTYPE=image/jpeg:https://staging.eibiswald.net/wp-content/uploads/2026/01/posterpic-scaled-e1768858162776.jpg
ORGANIZER;CN="Kultur-und Museumsverein Eibiswald":MAILTO:info@kultur.eibiswald.net
END:VEVENT
BEGIN:VEVENT
DTSTART;TZID=Europe/Vienna:20260507T200000
DTEND;TZID=Europe/Vienna:20260507T220000
DTSTAMP:20260423T153824
CREATED:20260102T174548Z
LAST-MODIFIED:20260213T181049Z
UID:10000134-1778184000-1778191200@staging.eibiswald.net
SUMMARY:Niemand wartet auf dich von Lot Vekemans
DESCRIPTION:In diesem eindringlichen Monolog-Stück verkörpert Antje Hochholdinger drei sehr unterschiedliche Frauenfiguren\, die alle mit derselben Frage kämpfen: Welche Verantwortung habe ich in der Gesellschaft – und wie kann ich sie selbst übernehmen? \nDie 85-jährige Gerda stößt in einer Bibliothek auf ein Buch mit dem Titel „Niemand wartet auf dich“. Statt sich über den Müll in ihrer Nachbarschaft zu empören\, beschließt sie\, selbst aktiv zu werden. \nIda\, eine Politikerin\, erkennt\, dass sie nicht mehr nur Spielball politischer Machtinteressen sein will. Nach einem schweren Rückschlag reflektiert sie ihre Werte und kündigt ihren Posten. \nSchließlich spricht die Schauspielerin selbst\, die sich nach einer tieferen Verbindung zur Gesellschaft und nach mehr Einfluss sehnt – sie sucht nach einem „Wir“\, das alle einschließt. \nMit klarer Sprache richtet Vekemans eine direkte Aufforderung an das Publikum: Warte nicht – übernimm selbst Verantwortung. Eigeninitiative statt Zynismus lautet ihre Botschaft.
URL:https://staging.eibiswald.net/event/niemand-wartet-auf-dich-lot-vekemans/
LOCATION:Lerchhaus\, Eibiswald 82\, Eibiswald\, Steiermark\, 8552
CATEGORIES:Events,Theater
ATTACH;FMTTYPE=image/jpeg:https://staging.eibiswald.net/wp-content/uploads/2026/01/Niemand-wartet-1-e1768235799899.jpeg
ORGANIZER;CN="Kultur-und Museumsverein Eibiswald":MAILTO:info@kultur.eibiswald.net
END:VEVENT
BEGIN:VEVENT
DTSTART;TZID=Europe/Vienna:20260528T200000
DTEND;TZID=Europe/Vienna:20260528T230000
DTSTAMP:20260423T153824
CREATED:20260102T173210Z
LAST-MODIFIED:20260319T165339Z
UID:10000133-1779998400-1780009200@staging.eibiswald.net
SUMMARY:Jazz Combo - Youth Big Band Radlje
DESCRIPTION:Die junge Jazz-Combo aus Radlje ob Dravi\, bestehend aus talentierten Musikern der Youth Big Band Radlje\, wird von dem Saxophonisten Blaž Starc geleitet. Blaž hat ein buntes Programm mit Jazz-\, Funk- und Soul-Stücken zusammengestellt\, das das Publikum inspirieren und fesseln wird. Leidenschaftlich in der Improvisation\, ist die Combo bereit\, ihre musikalischen Fähigkeiten auf neue Höhen zu bringen.
URL:https://staging.eibiswald.net/event/jazz-combo-youth-big-band-radlje/
LOCATION:Lerchhaus\, Eibiswald 82\, Eibiswald\, Steiermark\, 8552
CATEGORIES:Events,Konzert
ATTACH;FMTTYPE=image/webp:https://staging.eibiswald.net/wp-content/uploads/2026/01/IMG_20231204_002035_949-e1770298715721.webp
ORGANIZER;CN="Kultur-und Museumsverein Eibiswald":MAILTO:info@kultur.eibiswald.net
END:VEVENT
BEGIN:VEVENT
DTSTART;TZID=Europe/Vienna:20261114T140000
DTEND;TZID=Europe/Vienna:20261114T180000
DTSTAMP:20260423T153824
CREATED:20260112T164218Z
LAST-MODIFIED:20260124T150436Z
UID:10000154-1794664800-1794679200@staging.eibiswald.net
SUMMARY:Spielenachmittag der Generationen
DESCRIPTION:Spielenachmittag der Generationen \nGemeinsam spielen\, lachen und neue Begegnungen erleben! Beim Spielenachmittag der Generationen treffen sich Kinder\, Jugendliche\, Erwachsene sowie Seniorinnen und Senioren\, um bei abwechslungsreichen Gesellschafts-\, Brett- und Kartenspielen eine schöne Zeit miteinander zu verbringen. \nÜber 100 Spiele stehen zur Auswahl – von beliebten Klassikern bis zu spannenden neuen Entdeckungen.\nUnsere erfahrenen Spielmanagerinnen und Spielmanager erklären die Spiele professionell und verständlich\, begleiten die Spielrunden und sorgen dafür\, dass alle – egal ob Anfänger oder Spieleprofi – sofort mitspielen können. \nIn lockerer Atmosphäre entstehen Gespräche\, Freundschaften und generationsübergreifende Erlebnisse. Der Spaß am gemeinsamen Spielen steht im Mittelpunkt. Unterstützt werden wir von den Spieleprofis von Ludovico ludovico.at \nDie Teilnahme ist kostenlos. Einfach vorbeikommen\, mitspielen und genießen! \nAlle Generationen herzlich willkommen – wir freuen uns auf euch!
URL:https://staging.eibiswald.net/event/spielenachmittag-der-generationen-2/
LOCATION:Lerchhaus\, Eibiswald 82\, Eibiswald\, Steiermark\, 8552
CATEGORIES:Events,Gemeinsam
ATTACH;FMTTYPE=image/jpeg:https://staging.eibiswald.net/wp-content/uploads/2026/01/25J_0554-26J125313-1_Querformat_1-scaled.jpeg
ORGANIZER;CN="Kultur-und Museumsverein Eibiswald":MAILTO:info@kultur.eibiswald.net
END:VEVENT
BEGIN:VEVENT
DTSTART;TZID=Europe/Vienna:20261125T193000
DTEND;TZID=Europe/Vienna:20261125T210000
DTSTAMP:20260423T153824
CREATED:20260112T164521Z
LAST-MODIFIED:20260120T212820Z
UID:10000155-1795635000-1795640400@staging.eibiswald.net
SUMMARY:Impulsabend zu Orange The World
DESCRIPTION:Nach wie vor zählt Gewalt an Frauen zu einer der am weitesten verbreiteten Menschenrechtsverletzungen.\nDie UN-Kampagne Orange The World findet jährlich zwischen dem 25. November\, (Intern. Tag gegen Gewalt an Frauen) und dem 10. Dezember (Intern. Menschenrechtstag) statt.\nWeltweit erstrahlen in diesen 16 Tagen gegen Gewalt zahlreiche Gebäude in oranger Farbe\, um ein sichtbares Zeichen gegen jegliche Art von Gewalt an Frauen zu setzen und um sich mit Betroffenen solidarisch zu zeigen. Alle Aktionen in diesem Zeitraum tragen zur Enttabuisierung des Themas bei.\nAuch unser Verein setzt ein klares Zeichen\, beleuchtet Gebäude und veranstaltet in diesem Rahmen Impulsabende und Kunstaktionen\, die jedes Jahr regional und überregional beachtet werden.
URL:https://staging.eibiswald.net/event/impulsabend-zu-orange-the-world-2/
LOCATION:Lerchhaus\, Eibiswald 82\, Eibiswald\, Steiermark\, 8552
CATEGORIES:Events
ATTACH;FMTTYPE=image/png:https://staging.eibiswald.net/wp-content/uploads/2025/11/Bildschirmfoto-2025-11-14-um-15.55.28-1-e1763132606204.png
ORGANIZER;CN="Kultur-und Museumsverein Eibiswald":MAILTO:info@kultur.eibiswald.net
END:VEVENT
BEGIN:VEVENT
DTSTART;TZID=Europe/Vienna:20261204T193000
DTEND;TZID=Europe/Vienna:20261204T220000
DTSTAMP:20260423T153824
CREATED:20260120T221119Z
LAST-MODIFIED:20260305T165103Z
UID:10000159-1796412600-1796421600@staging.eibiswald.net
SUMMARY:Die Liederlichen
DESCRIPTION:Der 10 Männer Chor (Acappella) „Die Liederlichen“ singt\, swingt und verwandelt steirische Volkslieder in Blues und Rap\, macht sich Gedanken über Viagra und die wahre Liebe\, entführt in den Zauber spanischer Nächte und auf die Fischerboote Capris – und manches mehr…
URL:https://staging.eibiswald.net/event/die-liederlichen/
LOCATION:Lerchhaus\, Eibiswald 82\, Eibiswald\, Steiermark\, 8552
CATEGORIES:Events,Konzert
ATTACH;FMTTYPE=image/jpeg:https://staging.eibiswald.net/wp-content/uploads/2026/01/Leiderlichen.jpg
ORGANIZER;CN="Kultur-und Museumsverein Eibiswald":MAILTO:info@kultur.eibiswald.net
END:VEVENT
END:VCALENDAR